BEGIN:VCALENDAR
VERSION:2.0
PRODID:-//Goodwill Central Coast - ECPv6.15.20//NONSGML v1.0//EN
CALSCALE:GREGORIAN
METHOD:PUBLISH
X-WR-CALNAME:Goodwill Central Coast
X-ORIGINAL-URL:https://www.ccgoodwill.org
X-WR-CALDESC:Events for Goodwill Central Coast
REFRESH-INTERVAL;VALUE=DURATION:PT1H
X-Robots-Tag:noindex
X-PUBLISHED-TTL:PT1H
BEGIN:VTIMEZONE
TZID:America/Los_Angeles
BEGIN:DAYLIGHT
TZOFFSETFROM:-0800
TZOFFSETTO:-0700
TZNAME:PDT
DTSTART:20250309T100000
END:DAYLIGHT
BEGIN:STANDARD
TZOFFSETFROM:-0700
TZOFFSETTO:-0800
TZNAME:PST
DTSTART:20251102T090000
END:STANDARD
BEGIN:DAYLIGHT
TZOFFSETFROM:-0800
TZOFFSETTO:-0700
TZNAME:PDT
DTSTART:20260308T100000
END:DAYLIGHT
BEGIN:STANDARD
TZOFFSETFROM:-0700
TZOFFSETTO:-0800
TZNAME:PST
DTSTART:20261101T090000
END:STANDARD
BEGIN:DAYLIGHT
TZOFFSETFROM:-0800
TZOFFSETTO:-0700
TZNAME:PDT
DTSTART:20270314T100000
END:DAYLIGHT
BEGIN:STANDARD
TZOFFSETFROM:-0700
TZOFFSETTO:-0800
TZNAME:PST
DTSTART:20271107T090000
END:STANDARD
END:VTIMEZONE
BEGIN:VEVENT
DTSTART;TZID=America/Los_Angeles:20260427T090000
DTEND;TZID=America/Los_Angeles:20260427T120000
DTSTAMP:20260423T015331
CREATED:20260326T194550Z
LAST-MODIFIED:20260326T194550Z
UID:10000428-1777280400-1777291200@www.ccgoodwill.org
SUMMARY:Understanding Email & Social Media Basics
DESCRIPTION:
URL:https://www.ccgoodwill.org/event/understanding-email-social-media-basics-2/
LOCATION:Goodwill Career Center\, 1325 North Main St.\, Salinas\, CA\, 93906\, United States
CATEGORIES:Digital Literacy
ORGANIZER;CN="Goodwill Central Coast":MAILTO:digitalliteracy@ccgoodwill.org​
END:VEVENT
BEGIN:VEVENT
DTSTART;TZID=America/Los_Angeles:20260429T090000
DTEND;TZID=America/Los_Angeles:20260429T120000
DTSTAMP:20260423T015331
CREATED:20260326T194819Z
LAST-MODIFIED:20260326T194819Z
UID:10000430-1777453200-1777464000@www.ccgoodwill.org
SUMMARY:Your Digital Footprint
DESCRIPTION:
URL:https://www.ccgoodwill.org/event/your-digital-footprint-31/
LOCATION:Goodwill Career Center\, 1325 North Main St.\, Salinas\, CA\, 93906\, United States
CATEGORIES:Digital Literacy
ORGANIZER;CN="Goodwill Central Coast":MAILTO:digitalliteracy@ccgoodwill.org​
END:VEVENT
BEGIN:VEVENT
DTSTART;TZID=America/Los_Angeles:20260506T090000
DTEND;TZID=America/Los_Angeles:20260506T120000
DTSTAMP:20260423T015331
CREATED:20260421T190933Z
LAST-MODIFIED:20260421T190933Z
UID:10000433-1778058000-1778068800@www.ccgoodwill.org
SUMMARY:Google Docs
DESCRIPTION:
URL:https://www.ccgoodwill.org/event/google-docs-13/
LOCATION:Goodwill Career Center\, 1325 North Main St.\, Salinas\, CA\, 93906\, United States
CATEGORIES:Digital Literacy
ORGANIZER;CN="Goodwill Central Coast":MAILTO:digitalliteracy@ccgoodwill.org​
END:VEVENT
BEGIN:VEVENT
DTSTART;TZID=America/Los_Angeles:20260511T090000
DTEND;TZID=America/Los_Angeles:20260511T120000
DTSTAMP:20260423T015331
CREATED:20260421T191029Z
LAST-MODIFIED:20260421T191029Z
UID:10000434-1778490000-1778500800@www.ccgoodwill.org
SUMMARY:Microsoft Word
DESCRIPTION:
URL:https://www.ccgoodwill.org/event/microsoft-word-34/
LOCATION:Goodwill Career Center\, 1325 North Main St.\, Salinas\, CA\, 93906\, United States
CATEGORIES:Digital Literacy
ORGANIZER;CN="Goodwill Central Coast":MAILTO:digitalliteracy@ccgoodwill.org​
END:VEVENT
BEGIN:VEVENT
DTSTART;TZID=America/Los_Angeles:20260512T090000
DTEND;TZID=America/Los_Angeles:20260512T120000
DTSTAMP:20260423T015331
CREATED:20260421T191124Z
LAST-MODIFIED:20260421T191124Z
UID:10000435-1778576400-1778587200@www.ccgoodwill.org
SUMMARY:Microsoft PowerPoint
DESCRIPTION:
URL:https://www.ccgoodwill.org/event/microsoft-powerpoint-31/
LOCATION:Goodwill Career Center\, 1325 North Main St.\, Salinas\, CA\, 93906\, United States
CATEGORIES:Digital Literacy
ORGANIZER;CN="Goodwill Central Coast":MAILTO:digitalliteracy@ccgoodwill.org​
END:VEVENT
BEGIN:VEVENT
DTSTART;TZID=America/Los_Angeles:20260513T090000
DTEND;TZID=America/Los_Angeles:20260513T120000
DTSTAMP:20260423T015331
CREATED:20260421T191212Z
LAST-MODIFIED:20260421T191212Z
UID:10000436-1778662800-1778673600@www.ccgoodwill.org
SUMMARY:Microsoft Excel
DESCRIPTION:
URL:https://www.ccgoodwill.org/event/microsoft-excel-33/
LOCATION:Goodwill Career Center\, 1325 North Main St.\, Salinas\, CA\, 93906\, United States
CATEGORIES:Digital Literacy
ORGANIZER;CN="Goodwill Central Coast":MAILTO:digitalliteracy@ccgoodwill.org​
END:VEVENT
BEGIN:VEVENT
DTSTART;TZID=America/Los_Angeles:20260526T090000
DTEND;TZID=America/Los_Angeles:20260526T120000
DTSTAMP:20260423T015331
CREATED:20260421T192357Z
LAST-MODIFIED:20260421T192357Z
UID:10000439-1779786000-1779796800@www.ccgoodwill.org
SUMMARY:Intro to Windows & MacOS
DESCRIPTION:
URL:https://www.ccgoodwill.org/event/intro-to-windows-macos-13/
LOCATION:Goodwill Career Center\, 1325 North Main St.\, Salinas\, CA\, 93906\, United States
CATEGORIES:Digital Literacy
ORGANIZER;CN="Goodwill Central Coast":MAILTO:digitalliteracy@ccgoodwill.org​
END:VEVENT
END:VCALENDAR